BEGIN:VCALENDAR
VERSION:2.0
PRODID:-//VATSIM Malaysia - ECPv6.3.5//NONSGML v1.0//EN
CALSCALE:GREGORIAN
METHOD:PUBLISH
X-ORIGINAL-URL:https://vatmy.org
X-WR-CALDESC:Events for VATSIM Malaysia
REFRESH-INTERVAL;VALUE=DURATION:PT1H
X-Robots-Tag:noindex
X-PUBLISHED-TTL:PT1H
BEGIN:VTIMEZONE
TZID:Asia/Shanghai
BEGIN:STANDARD
TZOFFSETFROM:+0800
TZOFFSETTO:+0800
TZNAME:CST
DTSTART:20210101T000000
END:STANDARD
END:VTIMEZONE
BEGIN:VEVENT
DTSTART;TZID=Asia/Shanghai:20210530T210000
DTEND;TZID=Asia/Shanghai:20210530T230000
DTSTAMP:20260424T214952
CREATED:20210528T073228Z
LAST-MODIFIED:20210528T073228Z
UID:949-1622408400-1622415600@vatmy.org
SUMMARY:S2 CPT Lumpur Tower (WMKK_TWR)
DESCRIPTION:Dear all\, \nThere will be an S2 Controller Practical Test taking place at Kuala Lumpur FIR for Hidayat Abdullah (1091677). CPT details are as follows: \nDate: 30 May 2021\nTime: 1300z – 1500z (2100HRS -2300HRS GMT+8)\nVenue: WMKK Kuala Lumpur International Airport \n\nAll IFR traffic are welcome. VFR traffic is at the discretion of the controller. \nScenery:\nP3D/FSX Payware \nP3Dv4 Freeware \nXP11 Freeware \nCharts are available here.
URL:https://vatmy.org/event/s2-cpt-lumpur-tower-wmkk_twr/
CATEGORIES:CPT
ATTACH;FMTTYPE=image/png:https://vatmy.org/wp-content/uploads/2021/05/Hidayat.png
END:VEVENT
END:VCALENDAR