BEGIN:VCALENDAR
VERSION:2.0
PRODID:-//VATSIM Malaysia - ECPv6.3.5//NONSGML v1.0//EN
CALSCALE:GREGORIAN
METHOD:PUBLISH
X-WR-CALNAME:VATSIM Malaysia
X-ORIGINAL-URL:https://vatmy.org
X-WR-CALDESC:Events for VATSIM Malaysia
REFRESH-INTERVAL;VALUE=DURATION:PT1H
X-Robots-Tag:noindex
X-PUBLISHED-TTL:PT1H
BEGIN:VTIMEZONE
TZID:Asia/Shanghai
BEGIN:STANDARD
TZOFFSETFROM:+0800
TZOFFSETTO:+0800
TZNAME:CST
DTSTART:20210101T000000
END:STANDARD
END:VTIMEZONE
BEGIN:VEVENT
DTSTART;TZID=Asia/Shanghai:20210529T200000
DTEND;TZID=Asia/Shanghai:20210529T220000
DTSTAMP:20260424T214559
CREATED:20210528T072558Z
LAST-MODIFIED:20210528T072558Z
UID:944-1622318400-1622325600@vatmy.org
SUMMARY:C1 CPT Lumpur Radar (WMFC_CTR)
DESCRIPTION:Dear all\, \nThere will be a C1 Controller Practical Test taking place at Kuala Lumpur FIR for XinHan Chin (1484083). CPT details are as follows: \nDate: 29 May 2021\nTime: 1200z – 1400z (2000HRS -2200HRS GMT+8)\nVenue: WMFC_CTR Kuala Lumpur FIR \n\nAll IFR traffic are welcome. VFR traffic is at the discretion of the controller. \nScenery:\nP3D/FSX Payware \nP3Dv4 Freeware \nXP11 Freeware \nCharts are available here.
URL:https://vatmy.org/event/c1-cpt-lumpur-radar-wmfc_ctr/
CATEGORIES:CPT
ATTACH;FMTTYPE=image/png:https://vatmy.org/wp-content/uploads/2021/05/Max-Chin.png
END:VEVENT
END:VCALENDAR