BEGIN:VCALENDAR
VERSION:2.0
PRODID:-//VATSIM Malaysia - ECPv6.3.5//NONSGML v1.0//EN
CALSCALE:GREGORIAN
METHOD:PUBLISH
X-WR-CALNAME:VATSIM Malaysia
X-ORIGINAL-URL:https://vatmy.org
X-WR-CALDESC:Events for VATSIM Malaysia
REFRESH-INTERVAL;VALUE=DURATION:PT1H
X-Robots-Tag:noindex
X-PUBLISHED-TTL:PT1H
BEGIN:VTIMEZONE
TZID:Asia/Shanghai
BEGIN:STANDARD
TZOFFSETFROM:+0800
TZOFFSETTO:+0800
TZNAME:CST
DTSTART:20210101T000000
END:STANDARD
END:VTIMEZONE
BEGIN:VEVENT
DTSTART;TZID=Asia/Shanghai:20210501T220000
DTEND;TZID=Asia/Shanghai:20210502T000000
DTSTAMP:20260424T214630
CREATED:20210430T193216Z
LAST-MODIFIED:20210430T193253Z
UID:872-1619906400-1619913600@vatmy.org
SUMMARY:5th May 2021 1400z-1600z] S2 CPT Lumpur Tower (WMKK_TWR)
DESCRIPTION:  \nHi all\, \nThere will be a Controller Controller Practical Test (S2 CPT) for Khairul Ajwad on Lumpur Tower (WMKK_TWR) at the above mentioned date and time. Do join in and give Simon all your support by flying a domestic flight from any airport within Kuala Lumpur FIR! IFR and VFR are welcome. \nScenery:\nP3D/FSX Payware \nP3Dv4 Freeware \nXP11 Freeware \nCharts are available here.
URL:https://vatmy.org/event/5th-may-2021-1400z-1600z-s2-cpt-lumpur-tower-wmkk_twr/
CATEGORIES:CPT
END:VEVENT
END:VCALENDAR