BEGIN:VCALENDAR
VERSION:2.0
PRODID:-//VATSIM Malaysia - ECPv6.3.5//NONSGML v1.0//EN
CALSCALE:GREGORIAN
METHOD:PUBLISH
X-WR-CALNAME:VATSIM Malaysia
X-ORIGINAL-URL:https://vatmy.org
X-WR-CALDESC:Events for VATSIM Malaysia
REFRESH-INTERVAL;VALUE=DURATION:PT1H
X-Robots-Tag:noindex
X-PUBLISHED-TTL:PT1H
BEGIN:VTIMEZONE
TZID:Asia/Shanghai
BEGIN:STANDARD
TZOFFSETFROM:+0800
TZOFFSETTO:+0800
TZNAME:CST
DTSTART:20220101T000000
END:STANDARD
END:VTIMEZONE
BEGIN:VEVENT
DTSTART;TZID=Asia/Shanghai:20220121T210000
DTEND;TZID=Asia/Shanghai:20220121T230000
DTSTAMP:20260424T075649
CREATED:20220114T045040Z
LAST-MODIFIED:20220114T045525Z
UID:1084-1642798800-1642806000@vatmy.org
SUMMARY:[WMFC_CTR] | C1 Exam
DESCRIPTION:Come join us as we test Hidayat and help him gain his C1 rating to be a full fledged radar rated controller for VATSIM Malaysia vACC! \nDate: 21 January 2022\nTime: 1300z – 1500z (2100 – 2300 LT) \nPreferred Sceneries: \nWMKK [FSX Freeware]\nWMKK [P3D Freeware]\nWMKK [XP11 Freeware]\nWMKK [P3D/FSX Payware] A_A Sceneries\nWMKK [MSFS Payware] The Secret Studio\nWMKK [XP11 Payware] Cloudsurf Asia Simulations \nAeronautical Charts: WMKK \nMyVATSIM Event Link: Here \nRemarks: \n1. All flights and ATC services in Malaysian FIR will be conducted under the VATSIM Malaysia vACC regulations. Conflicts will be handled as per published on the VATSIM CoC. \n2. Non-event traffics will be granted lower priority. \n3. Plan your fuel management wisely. \n4. Make sure your AIRAC is updated to cycle number 2106 or newer.
URL:https://vatmy.org/event/wmfc_ctr-c1-exam/
CATEGORIES:CPT
ATTACH;FMTTYPE=image/jpeg:https://vatmy.org/wp-content/uploads/2022/01/hidayat-cpt.jpg
END:VEVENT
BEGIN:VEVENT
DTSTART;TZID=Asia/Shanghai:20220122T210000
DTEND;TZID=Asia/Shanghai:20220122T230000
DTSTAMP:20260424T075649
CREATED:20220114T045722Z
LAST-MODIFIED:20220114T045810Z
UID:1091-1642885200-1642892400@vatmy.org
SUMMARY:[WMKK_TWR] | S2 Exam
DESCRIPTION:Come join us as we test Kaydeen and help him gain his S2 rating to be a full fledged tower rated controller for VATSIM Malaysia vACC! \nDate: 22 January 2022\nTime: 1300z – 1500z (2100 – 2300 LT) \nPreferred Sceneries: \nWMKK [FSX Freeware]\nWMKK [P3D Freeware]\nWMKK [XP11 Freeware]\nWMKK [P3D/FSX Payware] A_A Sceneries\nWMKK [MSFS Payware] The Secret Studio\nWMKK [XP11 Payware] Cloudsurf Asia Simulations \nAeronautical Charts: WMKK \nMyVATSIM Event Link: Here \nRemarks: \n1. All flights and ATC services in Malaysian FIR will be conducted under the VATSIM Malaysia vACC regulations. Conflicts will be handled as per published on the VATSIM CoC. \n2. Non-event traffics will be granted lower priority. \n3. Plan your fuel management wisely. \n4. Make sure your AIRAC is updated to cycle number 2106 or newer.
URL:https://vatmy.org/event/wmkk_twr-s2-exam/
CATEGORIES:CPT
ATTACH;FMTTYPE=image/jpeg:https://vatmy.org/wp-content/uploads/2022/01/Kaydeen-cpt.jpg
END:VEVENT
END:VCALENDAR